BEGIN:VCALENDAR
VERSION:2.0
PRODID:-//Labuan International Golf Club - ECPv6.1.2.2//NONSGML v1.0//EN
CALSCALE:GREGORIAN
METHOD:PUBLISH
X-ORIGINAL-URL:https://ligc.com.my
X-WR-CALDESC:Events for Labuan International Golf Club
REFRESH-INTERVAL;VALUE=DURATION:PT1H
X-Robots-Tag:noindex
X-PUBLISHED-TTL:PT1H
BEGIN:VTIMEZONE
TZID:UTC
BEGIN:STANDARD
TZOFFSETFROM:+0000
TZOFFSETTO:+0000
TZNAME:UTC
DTSTART:20180101T000000
END:STANDARD
END:VTIMEZONE
BEGIN:VEVENT
DTSTART;TZID=UTC:20180316T070000
DTEND;TZID=UTC:20180318T170000
DTSTAMP:20260421T183022
CREATED:20180307T041326Z
LAST-MODIFIED:20180307T041445Z
UID:1384-1521183600-1521392400@ligc.com.my
SUMMARY:MATTA Travel Fair 2018
DESCRIPTION:
URL:https://ligc.com.my/event/matta-travel-fair-2018
LOCATION:Putra World Trade Centre (PWTC)\, Kuala Lumpur\, Malaysia
END:VEVENT
BEGIN:VEVENT
DTSTART;TZID=UTC:20180318T073000
DTEND;TZID=UTC:20180318T133000
DTSTAMP:20260421T183022
CREATED:20171226T055732Z
LAST-MODIFIED:20180307T035559Z
UID:1217-1521358200-1521379800@ligc.com.my
SUMMARY:Ballsweep
DESCRIPTION:*Subject To Change
URL:https://ligc.com.my/event/ballsweep-4
LOCATION:Labuan International Golf Club\, Jalan Sungai Pagar\, Labuan F.T.\, Labuan F.T.\, 87000\, Malaysia
ORGANIZER;CN="Labuan%20Internaional%20Golf%20Club":MAILTO:reservations@ligc.com.my
END:VEVENT
END:VCALENDAR